BEGIN:VCALENDAR
VERSION:2.0
PRODID:icalendar-ruby
CALSCALE:GREGORIAN
METHOD:PUBLISH
BEGIN:VEVENT
DTSTAMP:20260420T235049Z
UID:44-371433@radiantopc.com
DTSTART:20260802T143000Z
DTEND:20260802T153000Z
CLASS:PUBLIC
CREATED:20260420T171119
DESCRIPTION:Children's Sunday School\nWe welcome our covenant children each
  Lord’s Day for a gentle and joyful time of learning from God’s Word. 
 At present\, our class is geared toward preschool and kindergarten ages\, 
 reflecting the stage of the children in our congregation. As the Lord adds
  to our church family\, this ministry will grow accordingly—always seeki
 ng to instruct our children in the truth of Scripture and to encourage a s
 incere\, reverent faith in Christ.\nChildren's Sunday School takes place i
 n the small greeting room next to the Fellowship Hall just off the foyer. 
 Adult Sunday School is in the Fellowship Hall (your children will be right
  near you). 
LAST-MODIFIED:20260420T171119
LOCATION:10039 N Garden Ln\, Peoria\, IL 61615
SUMMARY:Children's Sunday School
URL;VALUE=URI:https://radiantopc.com/events/childrens-sunday-school/2026-08
 -02
ATTACH;FILENAME=childrens-sunday-school-2.png;FMTTYPE=image/png:https://dq5
 pwpg1q8ru0.cloudfront.net/2025/11/18/16/09/56/34cba14e-0d37-409f-b87e-78a6
 bd8b8700/childrens-sunday-school-2.png
END:VEVENT
END:VCALENDAR
