BEGIN:VCALENDAR
VERSION:2.0
PRODID:icalendar-ruby
CALSCALE:GREGORIAN
METHOD:PUBLISH
BEGIN:VEVENT
DTSTAMP:20260425T210718Z
UID:7-379679@radiantopc.com
DTSTART:20260927T161500Z
DTEND:20260927T173000Z
CLASS:PUBLIC
CREATED:20260425T145919
DESCRIPTION:Please join us Sunday morning for Worship and community.\n\nSun
 day School 9:30 am \nWorship 11:15 am\n\n* Please note\, we share a build
 ing with Peoria Chinese Christian Church. Don't be confused\, you're in th
 e right place when you see their sign.\nWe look forward to seeing you!\nIf
  you're new and have questions\, please visit HERE.\nListen to our Sermons
 !
LAST-MODIFIED:20260425T145919
LOCATION:10039 N Garden Ln\, Peoria\, IL 61615
SUMMARY:Sunday Morning Worship
URL;VALUE=URI:https://radiantopc.com/events/sunday-morning-worship/2026-09-
 27
ATTACH;FILENAME=Picture0_pccc_full.jpg;FMTTYPE=image/jpeg:https://dq5pwpg1q
 8ru0.cloudfront.net/2025/08/16/16/54/46/da36e8ef-96e6-4a78-b881-9fad74d589
 0a/Picture0_pccc_full.jpg
END:VEVENT
END:VCALENDAR
